BEGIN:VCALENDAR
VERSION:2.0
PRODID:-//5.44.111.80//NONSGML kigkonsult.se iCalcreator 2.20//
CALSCALE:GREGORIAN
METHOD:PUBLISH
X-WR-TIMEZONE:Europe/Berlin
BEGIN:VEVENT
UID:event30@Kreisfeuerwehrverband Saarlouis
DTSTAMP:20260422T083001Z
CATEGORIES:Feuerwehrjubiläum
DESCRIPTION:Gemeinschaftsübung der Jugendfeuerwehren Stadt Lebach/60+1-Jahr
 e JFW Gresaubach\nKategorie: Feuerwehrjubiläum\nICS-Link: https://kfv-saar
 louis.de/index.php?option=com_jem&view=event&id=30:gemeinschaftsuebung-der
 -jugendfeuerwehren-stadt-lebach-60-1-jahre-jfw-gresaubach\n
DTSTART;VALUE=DATE:20260530
DTEND;VALUE=DATE:20260531
LOCATION:FF Lebach - Lbz. Gresaubach\,Wendalinusstraße 66\,66822 Lebach
SUMMARY:Gemeinschaftsübung der Jugendfeuerwehren Stadt Lebach/60+1-Jahre JF
 W Gresaubach
URL:https://kfv-saarlouis.de/index.php?option=com_jem&view=event&id=30:geme
 inschaftsuebung-der-jugendfeuerwehren-stadt-lebach-60-1-jahre-jfw-gresauba
 ch
END:VEVENT
BEGIN:VEVENT
UID:event29@Kreisfeuerwehrverband Saarlouis
DTSTAMP:20260422T083001Z
CATEGORIES:Feuerwehrfeste
DESCRIPTION:Tag der offenen Tür LB Gresaubach\nKategorie: Feuerwehrfeste\nI
 CS-Link: https://kfv-saarlouis.de/index.php?option=com_jem&view=event&id=2
 9:tag-der-offenen-tuer-lb-gresaubach\n
DTSTART;VALUE=DATE:20260531
DTEND;VALUE=DATE:20260601
LOCATION:FF Lebach - Lbz. Gresaubach\,Wendalinusstraße 66\,66822 Lebach
SUMMARY:Tag der offenen Tür LB Gresaubach
URL:https://kfv-saarlouis.de/index.php?option=com_jem&view=event&id=29:tag-
 der-offenen-tuer-lb-gresaubach
END:VEVENT
END:VCALENDAR