BEGIN:VCALENDAR
VERSION:2.0
PRODID:-//5.44.111.80//NONSGML kigkonsult.se iCalcreator 2.20//
CALSCALE:GREGORIAN
METHOD:PUBLISH
X-WR-TIMEZONE:Europe/Berlin
BEGIN:VEVENT
UID:event63@Kreisfeuerwehrverband Saarlouis
DTSTAMP:20260422T082532Z
CATEGORIES:Feuerwehrjubiläum
DESCRIPTION:50 Jahre Jugendfeuerwehr LB Reisbach und 10 Jahre Löschbande LB
  Saarwellingen und LB Reisbach\nKategorie: Feuerwehrjubiläum\nICS-Link: ht
 tps://kfv-saarlouis.de/index.php?option=com_jem&view=event&id=63:50-jahre-
 jugendfeuerwehr-lbz-reisbach-und-10-jahre-loeschbande-lbz-saarwellingen-un
 d-lbz-reisbach\n
DTSTART;TZID=Europe/Berlin:20260905T070000
DTEND;TZID=Europe/Berlin:20260905T220000
LOCATION:FF Saarwellingen - Lbz. Reisbach\,Kirchenstraße 73\,66793 Saarwell
 ingen
SUMMARY:50 Jahre Jugendfeuerwehr LB Reisbach und 10 Jahre Löschbande LB Saa
 rwellingen und LB Reisbach
URL:https://kfv-saarlouis.de/index.php?option=com_jem&view=event&id=63:50-j
 ahre-jugendfeuerwehr-lbz-reisbach-und-10-jahre-loeschbande-lbz-saarwelling
 en-und-lbz-reisbach
END:VEVENT
BEGIN:VEVENT
UID:event64@Kreisfeuerwehrverband Saarlouis
DTSTAMP:20260422T082532Z
CATEGORIES:Sonstige Veranstaltung
DESCRIPTION:Jahreshauptübung der Freiwilligen Feuerwehr Saarwellingen\nKate
 gorie: Sonstige Veranstaltung\nICS-Link: https://kfv-saarlouis.de/index.ph
 p?option=com_jem&view=event&id=64:jahreshauptuebung-feuerwehr-saarwellinge
 n\n
DTSTART;TZID=Europe/Berlin:20260919T160000
DTEND;TZID=Europe/Berlin:20260919T190000
LOCATION:FF Saarwellingen - Lbz. Reisbach\,Kirchenstraße 73\,66793 Saarwell
 ingen
SUMMARY:Jahreshauptübung der Freiwilligen Feuerwehr Saarwellingen
URL:https://kfv-saarlouis.de/index.php?option=com_jem&view=event&id=64:jahr
 eshauptuebung-feuerwehr-saarwellingen
END:VEVENT
END:VCALENDAR